BEGIN:VCALENDAR
VERSION:2.0
PRODID:-//Coomera Waters Management - ECPv6.15.20//NONSGML v1.0//EN
CALSCALE:GREGORIAN
METHOD:PUBLISH
X-WR-CALNAME:Coomera Waters Management
X-ORIGINAL-URL:https://www.cwmut.com.au
X-WR-CALDESC:Events for Coomera Waters Management
REFRESH-INTERVAL;VALUE=DURATION:PT1H
X-Robots-Tag:noindex
X-PUBLISHED-TTL:PT1H
BEGIN:VTIMEZONE
TZID:Australia/Brisbane
BEGIN:STANDARD
TZOFFSETFROM:+1000
TZOFFSETTO:+1000
TZNAME:AEST
DTSTART:20250101T000000
END:STANDARD
END:VTIMEZONE
BEGIN:VEVENT
DTSTART;TZID=Australia/Brisbane:20260424T160000
DTEND;TZID=Australia/Brisbane:20260424T180000
DTSTAMP:20260424T092005
CREATED:20260414T014937Z
LAST-MODIFIED:20260414T014937Z
UID:10006146-1777046400-1777053600@www.cwmut.com.au
SUMMARY:Tennis Court 1 Booked 4 - 6pm (Tegan O'Shea)
DESCRIPTION:
URL:https://www.cwmut.com.au/bookings/tennis-court-1-booked-4-6pm-tegan-oshea/2026-04-24/
LOCATION:Tennis Court 1 | RC 2
CATEGORIES:Rec Club 2,Tennis Court 1
END:VEVENT
BEGIN:VEVENT
DTSTART;TZID=Australia/Brisbane:20260424T160000
DTEND;TZID=Australia/Brisbane:20260424T180000
DTSTAMP:20260424T092005
CREATED:20260415T015945Z
LAST-MODIFIED:20260415T015945Z
UID:10006152-1777046400-1777053600@www.cwmut.com.au
SUMMARY:Common Room Booked 4 - 6pm (Northern Bay)
DESCRIPTION:
URL:https://www.cwmut.com.au/bookings/common-room-booked-4-6pm-northern-bay/
LOCATION:Common Room | RC 1
CATEGORIES:Common Room,Rec Club 1
END:VEVENT
BEGIN:VEVENT
DTSTART;TZID=Australia/Brisbane:20260424T180000
DTEND;TZID=Australia/Brisbane:20260424T190000
DTSTAMP:20260424T092005
CREATED:20260310T014456Z
LAST-MODIFIED:20260310T014456Z
UID:10005995-1777053600-1777057200@www.cwmut.com.au
SUMMARY:Tennis Court 1 Booked 6 - 7pm (Cameron Biddle)
DESCRIPTION:
URL:https://www.cwmut.com.au/bookings/tennis-court-1-booked-6-7pm-cameron-biddle/2026-04-24/
LOCATION:Tennis Court 1 | RC 2
CATEGORIES:Rec Club 2,Tennis Court 1
END:VEVENT
END:VCALENDAR